BEGIN:VCALENDAR
VERSION:2.0
PRODID:-//Sunshine Brewery - ECPv4.9.11//NONSGML v1.0//EN
CALSCALE:GREGORIAN
METHOD:PUBLISH
X-WR-CALNAME:Sunshine Brewery
X-ORIGINAL-URL:https://www.sunshinebrewery.com.au
X-WR-CALDESC:Events for Sunshine Brewery
BEGIN:VTIMEZONE
TZID:Australia/Brisbane
BEGIN:STANDARD
TZOFFSETFROM:+1000
TZOFFSETTO:+1000
TZNAME:AEST
DTSTART:20190101T000000
END:STANDARD
END:VTIMEZONE
BEGIN:VEVENT
DTSTART;TZID=Australia/Brisbane:20190920T113000
DTEND;TZID=Australia/Brisbane:20190920T190000
DTSTAMP:20200302T140455
CREATED:20181107T082156Z
LAST-MODIFIED:20190908T031009Z
UID:761-1568979000-1569006000@www.sunshinebrewery.com.au
SUMMARY:Loaded American Hotdogs
DESCRIPTION:The American Hotdog Company is here to provide lunch and dinner for cellar door guests and locals with traditional American Hot Dogs – perfect with Beer!\nDrew will be serving up such numbers as “The Coney Island Dog”\, “The New Yorker”\, “the L.A. Dog” and “The Chicago Dog” – each with their own story. Treat yourself to the best hotdogs you will ever have – all made with Australia Beef and lots of extra toppings! PLUS Drew has some exciting new items on the menu – things like stuffed Jalepeno poppers and Loaded Potato Gems and the classic American Corn Dog on a stick with a beer-corn meal batter \n
URL:https://www.sunshinebrewery.com.au/event/american-hotdogs-for-lunch/
ATTACH;FMTTYPE=image/jpeg:https://www.sunshinebrewery.com.au/wp-content/uploads/2018/11/Hotdogs-loaded-gems.jpg
END:VEVENT
END:VCALENDAR