BEGIN:VCALENDAR
VERSION:2.0
PRODID:-//Sunshine Brewery - ECPv4.9.11//NONSGML v1.0//EN
CALSCALE:GREGORIAN
METHOD:PUBLISH
X-WR-CALNAME:Sunshine Brewery
X-ORIGINAL-URL:https://www.sunshinebrewery.com.au
X-WR-CALDESC:Events for Sunshine Brewery
BEGIN:VTIMEZONE
TZID:Australia/Brisbane
BEGIN:STANDARD
TZOFFSETFROM:+1000
TZOFFSETTO:+1000
TZNAME:AEST
DTSTART:20190101T000000
END:STANDARD
END:VTIMEZONE
BEGIN:VEVENT
DTSTART;TZID=Australia/Brisbane:20191026T140000
DTEND;TZID=Australia/Brisbane:20191026T190000
DTSTAMP:20200302T134428
CREATED:20190911T031635Z
LAST-MODIFIED:20191023T020917Z
UID:1077-1572098400-1572116400@www.sunshinebrewery.com.au
SUMMARY:National Indie Beer Day
DESCRIPTION:Yes you heard correct!   The Independent Brewers of Australia have declared today (and ever day really) “National Indie Beer Day” \nSo support your local Indie Brewers and raise a glass (or can) to the continuation of creativity in the Independent Brewing field. #askforindiebeer \nAnd to celebrate today we are offering some huge discounts on carton purchases….come into the brewery and check it out! \n
URL:https://www.sunshinebrewery.com.au/event/national-indie-beer-day/
ATTACH;FMTTYPE=image/jpeg:https://www.sunshinebrewery.com.au/wp-content/uploads/2019/09/Blue-Sky-IPA-cans.jpg
END:VEVENT
END:VCALENDAR