BEGIN:VCALENDAR
VERSION:2.0
PRODID:-//Sunshine Brewery - ECPv4.9.11//NONSGML v1.0//EN
CALSCALE:GREGORIAN
METHOD:PUBLISH
X-WR-CALNAME:Sunshine Brewery
X-ORIGINAL-URL:https://www.sunshinebrewery.com.au
X-WR-CALDESC:Events for Sunshine Brewery
BEGIN:VTIMEZONE
TZID:Australia/Brisbane
BEGIN:STANDARD
TZOFFSETFROM:+1000
TZOFFSETTO:+1000
TZNAME:AEST
DTSTART:20190101T000000
END:STANDARD
END:VTIMEZONE
BEGIN:VEVENT
DTSTART;TZID=Australia/Brisbane:20191004T120000
DTEND;TZID=Australia/Brisbane:20191004T190000
DTSTAMP:20200302T135658
CREATED:20181107T081710Z
LAST-MODIFIED:20190905T040843Z
UID:758-1570190400-1570215600@www.sunshinebrewery.com.au
SUMMARY:Pete the Greek says "My Food's Best Friend is Beer!"
DESCRIPTION:Come and test his conviction this Friday\, and you be the judge.   The menu includes:  Haloumi Fries with Haloumi handcrafted to Pete’s Grandmother’s recipe\,  Lamb souvlaki and traditional Cypriot sausages …..   Team these with the Debbie Harry Session Ale and you have a match made in heaven. \n  \n
URL:https://www.sunshinebrewery.com.au/event/pete-the-greek-says-my-foods-best-friend-is-beer/
LOCATION:Sunshine Brewery\, 28 Fishermans Rd\, Sunshine Coast\, Queensland\, 4558\, Australia
ATTACH;FMTTYPE=image/jpeg:https://www.sunshinebrewery.com.au/wp-content/uploads/2018/11/Pete-the-Greek-food.jpg
END:VEVENT
END:VCALENDAR