BEGIN:VCALENDAR
VERSION:2.0
PRODID:-//Sunshine Brewery - ECPv4.9.11//NONSGML v1.0//EN
CALSCALE:GREGORIAN
METHOD:PUBLISH
X-WR-CALNAME:Sunshine Brewery
X-ORIGINAL-URL:https://www.sunshinebrewery.com.au
X-WR-CALDESC:Events for Sunshine Brewery
BEGIN:VTIMEZONE
TZID:Australia/Brisbane
BEGIN:STANDARD
TZOFFSETFROM:+1000
TZOFFSETTO:+1000
TZNAME:AEST
DTSTART:20190101T000000
END:STANDARD
END:VTIMEZONE
BEGIN:VEVENT
DTSTART;TZID=Australia/Brisbane:20190712T120000
DTEND;TZID=Australia/Brisbane:20190712T140000
DTSTAMP:20200302T134049
CREATED:20190711T001313Z
LAST-MODIFIED:20190711T001330Z
UID:1035-1562932800-1562940000@www.sunshinebrewery.com.au
SUMMARY:Puppies in the House to launch a new beer
DESCRIPTION:Yes\, we will have a team of Smart Pups in the Brewery to launch the Karma Keg beer which will go on tap from midday. \nThe new collaboration brew is a coffee lager\, brewed at Eumundi Brewery by all the brewers involved in the Hinterland Craft Beer Festival\, including Eumundi Brewery\, Sunshine Coast Brewery\, Brouhaha\, Copperhead Brewery\, Heads of Noosa Brewery\, Moffat Beach Brewery\, Your Mates and us. ALL proceeds of the sale of this beer go to the Sunshine Coast Charity\, Smart Pups assistance dogs. So come down\, sample the brew\, pat some pups and donate to the cause. \n
URL:https://www.sunshinebrewery.com.au/event/puppies-in-the-house-to-launch-a-new-beer/
ATTACH;FMTTYPE=image/jpeg:https://www.sunshinebrewery.com.au/wp-content/uploads/2019/07/smart-pups-puppies.jpg
END:VEVENT
END:VCALENDAR